Package: MiChip Version: 1.63.0 Command: /Library/Frameworks/R.framework/Resources/bin/R CMD build --keep-empty-dirs --no-resave-data MiChip StartedAt: 2025-10-03 17:00:30 -0400 (Fri, 03 Oct 2025) EndedAt: 2025-10-03 17:00:38 -0400 (Fri, 03 Oct 2025) EllapsedTime: 8.1 seconds RetCode: 0 Status: OK PackageFile: MiChip_1.63.0.tar.gz PackageFileSize: 670.3 KiB