Package: MiChip Version: 1.63.0 Command: rm -rf MiChip.buildbin-libdir && mkdir MiChip.buildbin-libdir && /Users/biocbuild/BBS/utils/build-universal.sh MiChip_1.63.0.tar.gz /Library/Frameworks/R.framework/Resources/bin/R MiChip.buildbin-libdir StartedAt: 2025-10-03 22:46:02 -0400 (Fri, 03 Oct 2025) EndedAt: 2025-10-03 22:46:04 -0400 (Fri, 03 Oct 2025) EllapsedTime: 2.0 seconds RetCode: 0 Status: OK PackageFile: MiChip_1.63.0.tgz PackageFileSize: 720.9 KiB