Package: Mfuzz Version: 2.71.0 Command: /home/biocbuild/bbs-3.23-bioc/R/bin/R CMD build --keep-empty-dirs --no-resave-data Mfuzz StartedAt: 2025-11-20 18:38:17 -0500 (Thu, 20 Nov 2025) EndedAt: 2025-11-20 18:38:28 -0500 (Thu, 20 Nov 2025) EllapsedTime: 11.0 seconds RetCode: 0 Status: OK PackageFile: Mfuzz_2.71.0.tar.gz PackageFileSize: 819.5 KiB