Package: Mfuzz Version: 2.69.0 Command: /Library/Frameworks/R.framework/Resources/bin/R CMD INSTALL Mfuzz StartedAt: 2025-10-10 15:10:01 -0400 (Fri, 10 Oct 2025) EndedAt: 2025-10-10 15:10:06 -0400 (Fri, 10 Oct 2025) EllapsedTime: 5.2 seconds RetCode: 0 Status: OK