Package: MethylSeekR Version: 1.51.0 Command: /home/biocbuild/bbs-3.23-bioc/R/bin/R CMD INSTALL MethylSeekR StartedAt: 2025-11-05 15:34:47 -0500 (Wed, 05 Nov 2025) EndedAt: 2025-11-05 15:35:18 -0500 (Wed, 05 Nov 2025) EllapsedTime: 30.5 seconds RetCode: 0 Status: OK