Package: MethylSeekR Version: 1.51.0 Command: /home/biocbuild/bbs-3.23-bioc/R/bin/R CMD build --keep-empty-dirs --no-resave-data MethylSeekR StartedAt: 2025-11-05 18:39:01 -0500 (Wed, 05 Nov 2025) EndedAt: 2025-11-05 18:40:52 -0500 (Wed, 05 Nov 2025) EllapsedTime: 111.1 seconds RetCode: 0 Status: OK PackageFile: MethylSeekR_1.51.0.tar.gz PackageFileSize: 1.586 MiB