Package: MethylSeekR Version: 1.49.3 Command: /Library/Frameworks/R.framework/Resources/bin/R CMD INSTALL MethylSeekR StartedAt: 2025-10-22 15:30:45 -0400 (Wed, 22 Oct 2025) EndedAt: 2025-10-22 15:31:26 -0400 (Wed, 22 Oct 2025) EllapsedTime: 41.6 seconds RetCode: 0 Status: OK