Package: MethylSeekR Version: 1.49.3 Command: rm -rf MethylSeekR.buildbin-libdir && mkdir MethylSeekR.buildbin-libdir && /Users/biocbuild/BBS/utils/build-universal.sh MethylSeekR_1.49.3.tar.gz /Library/Frameworks/R.framework/Resources/bin/R MethylSeekR.buildbin-libdir StartedAt: 2025-10-23 01:41:38 -0400 (Thu, 23 Oct 2025) EndedAt: 2025-10-23 01:42:23 -0400 (Thu, 23 Oct 2025) EllapsedTime: 45.0 seconds RetCode: 0 Status: OK PackageFile: MethylSeekR_1.49.3.tgz PackageFileSize: 1.647 MiB