Package: MethylSeekR Version: 1.49.3 Command: /Library/Frameworks/R.framework/Resources/bin/R CMD INSTALL MethylSeekR StartedAt: 2025-10-01 15:17:46 -0400 (Wed, 01 Oct 2025) EndedAt: 2025-10-01 15:18:00 -0400 (Wed, 01 Oct 2025) EllapsedTime: 13.2 seconds RetCode: 0 Status: OK