Package: MethylSeekR Version: 1.49.3 Command: rm -rf MethylSeekR.buildbin-libdir && mkdir MethylSeekR.buildbin-libdir && /Users/biocbuild/BBS/utils/build-universal.sh MethylSeekR_1.49.3.tar.gz /Library/Frameworks/R.framework/Resources/bin/R MethylSeekR.buildbin-libdir StartedAt: 2025-09-30 22:46:14 -0400 (Tue, 30 Sep 2025) EndedAt: 2025-09-30 22:46:28 -0400 (Tue, 30 Sep 2025) EllapsedTime: 14.3 seconds RetCode: 0 Status: OK PackageFile: MethylSeekR_1.49.3.tgz PackageFileSize: 1.649 MiB