Package: MethylMix Version: 2.39.0 Command: /home/biocbuild/bbs-3.22-bioc/R/bin/R CMD INSTALL MethylMix StartedAt: 2025-10-17 15:07:02 -0400 (Fri, 17 Oct 2025) EndedAt: 2025-10-17 15:07:13 -0400 (Fri, 17 Oct 2025) EllapsedTime: 11.2 seconds RetCode: 0 Status: OK