Package: MethylMix Version: 2.41.0 Command: /home/biocbuild/bbs-3.23-bioc/R/bin/R CMD INSTALL MethylMix StartedAt: 2025-11-20 15:07:10 -0500 (Thu, 20 Nov 2025) EndedAt: 2025-11-20 15:07:21 -0500 (Thu, 20 Nov 2025) EllapsedTime: 10.7 seconds RetCode: 0 Status: OK