Package: MethylMix Version: 2.41.0 Command: /home/biocbuild/bbs-3.23-bioc/R/bin/R CMD build --keep-empty-dirs --no-resave-data MethylMix StartedAt: 2025-11-20 18:36:01 -0500 (Thu, 20 Nov 2025) EndedAt: 2025-11-20 18:36:29 -0500 (Thu, 20 Nov 2025) EllapsedTime: 28.0 seconds RetCode: 0 Status: OK PackageFile: MethylMix_2.41.0.tar.gz PackageFileSize: 2.576 MiB