Package: MethylMix Version: 2.41.0 Command: /Library/Frameworks/R.framework/Resources/bin/R CMD INSTALL MethylMix StartedAt: 2025-11-20 15:14:51 -0500 (Thu, 20 Nov 2025) EndedAt: 2025-11-20 15:15:30 -0500 (Thu, 20 Nov 2025) EllapsedTime: 39.4 seconds RetCode: 0 Status: OK