Package: MethylMix Version: 2.41.0 Command: /Library/Frameworks/R.framework/Resources/bin/R CMD build --keep-empty-dirs --no-resave-data MethylMix StartedAt: 2025-11-20 17:40:32 -0500 (Thu, 20 Nov 2025) EndedAt: 2025-11-20 17:41:04 -0500 (Thu, 20 Nov 2025) EllapsedTime: 31.9 seconds RetCode: 0 Status: OK PackageFile: MethylMix_2.41.0.tar.gz PackageFileSize: 2.576 MiB