Package: MethylMix Version: 2.41.0 Command: rm -rf MethylMix.buildbin-libdir && mkdir MethylMix.buildbin-libdir && /Users/biocbuild/BBS/utils/build-universal.sh MethylMix_2.41.0.tar.gz /Library/Frameworks/R.framework/Resources/bin/R MethylMix.buildbin-libdir StartedAt: 2025-11-21 01:42:31 -0500 (Fri, 21 Nov 2025) EndedAt: 2025-11-21 01:42:50 -0500 (Fri, 21 Nov 2025) EllapsedTime: 18.6 seconds RetCode: 0 Status: OK PackageFile: MethylMix_2.41.0.tgz PackageFileSize: 2.918 MiB