Package: MethylMix Version: 2.41.0 Command: /Library/Frameworks/R.framework/Resources/bin/R CMD build --keep-empty-dirs --no-resave-data MethylMix StartedAt: 2025-11-20 16:54:54 -0500 (Thu, 20 Nov 2025) EndedAt: 2025-11-20 16:55:07 -0500 (Thu, 20 Nov 2025) EllapsedTime: 13.1 seconds RetCode: 0 Status: OK PackageFile: MethylMix_2.41.0.tar.gz PackageFileSize: 2.576 MiB