Package: MethylMix Version: 2.41.0 Command: rm -rf MethylMix.buildbin-libdir && mkdir MethylMix.buildbin-libdir && /Users/biocbuild/BBS/utils/build-universal.sh MethylMix_2.41.0.tar.gz /Library/Frameworks/R.framework/Resources/bin/R MethylMix.buildbin-libdir StartedAt: 2025-11-20 23:40:37 -0500 (Thu, 20 Nov 2025) EndedAt: 2025-11-20 23:40:43 -0500 (Thu, 20 Nov 2025) EllapsedTime: 6.1 seconds RetCode: 0 Status: OK PackageFile: MethylMix_2.41.0.tgz PackageFileSize: 2.921 MiB