Package: MethylAid Version: 1.45.0 Command: /home/biocbuild/bbs-3.23-bioc/R/bin/R CMD INSTALL MethylAid StartedAt: 2025-11-20 15:42:51 -0500 (Thu, 20 Nov 2025) EndedAt: 2025-11-20 15:43:42 -0500 (Thu, 20 Nov 2025) EllapsedTime: 50.8 seconds RetCode: 0 Status: OK