Package: MethylAid Version: 1.45.0 Command: /home/biocbuild/bbs-3.23-bioc/R/bin/R CMD build --keep-empty-dirs --no-resave-data MethylAid StartedAt: 2025-11-20 18:34:19 -0500 (Thu, 20 Nov 2025) EndedAt: 2025-11-20 18:36:44 -0500 (Thu, 20 Nov 2025) EllapsedTime: 145.1 seconds RetCode: 0 Status: OK PackageFile: MethylAid_1.45.0.tar.gz PackageFileSize: 3.013 MiB