Package: MethylAid Version: 1.45.0 Command: /Library/Frameworks/R.framework/Resources/bin/R CMD INSTALL MethylAid StartedAt: 2025-11-20 15:42:59 -0500 (Thu, 20 Nov 2025) EndedAt: 2025-11-20 15:44:05 -0500 (Thu, 20 Nov 2025) EllapsedTime: 65.8 seconds RetCode: 0 Status: OK