Package: MethylAid Version: 1.45.0 Command: /Library/Frameworks/R.framework/Resources/bin/R CMD build --keep-empty-dirs --no-resave-data MethylAid StartedAt: 2025-11-20 17:40:04 -0500 (Thu, 20 Nov 2025) EndedAt: 2025-11-20 17:45:26 -0500 (Thu, 20 Nov 2025) EllapsedTime: 322.3 seconds RetCode: 0 Status: OK PackageFile: MethylAid_1.45.0.tar.gz PackageFileSize: 3.012 MiB