Package: MethylAid Version: 1.43.0 Command: /Library/Frameworks/R.framework/Resources/bin/R CMD INSTALL MethylAid StartedAt: 2025-10-16 15:34:28 -0400 (Thu, 16 Oct 2025) EndedAt: 2025-10-16 15:34:48 -0400 (Thu, 16 Oct 2025) EllapsedTime: 19.7 seconds RetCode: 0 Status: OK