Package: MethylAid Version: 1.43.0 Command: /Library/Frameworks/R.framework/Resources/bin/R CMD build --keep-empty-dirs --no-resave-data MethylAid StartedAt: 2025-10-17 16:57:01 -0400 (Fri, 17 Oct 2025) EndedAt: 2025-10-17 16:58:31 -0400 (Fri, 17 Oct 2025) EllapsedTime: 90.0 seconds RetCode: 0 Status: OK PackageFile: MethylAid_1.43.0.tar.gz PackageFileSize: 3.013 MiB