Package: MethTargetedNGS Version: 1.41.0 Command: /home/biocbuild/R/R/bin/R CMD INSTALL MethTargetedNGS StartedAt: 2025-10-09 21:59:33 -0000 (Thu, 09 Oct 2025) EndedAt: 2025-10-09 21:59:48 -0000 (Thu, 09 Oct 2025) EllapsedTime: 14.7 seconds RetCode: 0 Status: OK