Package: MethTargetedNGS Version: 1.41.0 Command: /home/biocbuild/R/R/bin/R CMD build --keep-empty-dirs --no-resave-data MethTargetedNGS StartedAt: 2025-10-10 01:58:52 -0000 (Fri, 10 Oct 2025) EndedAt: 2025-10-10 01:59:18 -0000 (Fri, 10 Oct 2025) EllapsedTime: 26.0 seconds RetCode: 0 Status: OK PackageFile: MethTargetedNGS_1.41.0.tar.gz PackageFileSize: 271.6 KiB