Package: MethTargetedNGS Version: 1.43.0 Command: /home/biocbuild/bbs-3.23-bioc/R/bin/R CMD check --install=check:MethTargetedNGS.install-out.txt --library=/home/biocbuild/bbs-3.23-bioc/R/site-library --timings MethTargetedNGS_1.43.0.tar.gz StartedAt: 2025-11-06 01:09:32 -0500 (Thu, 06 Nov 2025) EndedAt: 2025-11-06 01:11:11 -0500 (Thu, 06 Nov 2025) EllapsedTime: 99.0 seconds RetCode: 0 Status: OK CheckDir: MethTargetedNGS.Rcheck Warnings: 0