Package: MethReg Version: 1.19.0 Command: /Library/Frameworks/R.framework/Resources/bin/R CMD INSTALL MethReg StartedAt: 2025-10-10 15:51:26 -0400 (Fri, 10 Oct 2025) EndedAt: 2025-10-10 15:52:34 -0400 (Fri, 10 Oct 2025) EllapsedTime: 68.6 seconds RetCode: 0 Status: OK