Package: MethReg Version: 1.19.0 Command: /Library/Frameworks/R.framework/Resources/bin/R CMD build --keep-empty-dirs --no-resave-data MethReg StartedAt: 2025-10-10 17:55:58 -0400 (Fri, 10 Oct 2025) EndedAt: 2025-10-10 18:12:14 -0400 (Fri, 10 Oct 2025) EllapsedTime: 975.7 seconds RetCode: 0 Status: OK PackageFile: MethReg_1.19.0.tar.gz PackageFileSize: 5.386 MiB