Package: MethReg Version: 1.19.0 Command: rm -rf MethReg.buildbin-libdir && mkdir MethReg.buildbin-libdir && /Users/biocbuild/BBS/utils/build-universal.sh MethReg_1.19.0.tar.gz /Library/Frameworks/R.framework/Resources/bin/R MethReg.buildbin-libdir StartedAt: 2025-10-11 02:38:28 -0400 (Sat, 11 Oct 2025) EndedAt: 2025-10-11 02:39:42 -0400 (Sat, 11 Oct 2025) EllapsedTime: 73.8 seconds RetCode: 0 Status: OK PackageFile: MethReg_1.19.0.tgz PackageFileSize: 4.516 MiB