Package: MethPed Version: 1.39.0 Command: /home/biocbuild/bbs-3.23-bioc/R/bin/R CMD INSTALL MethPed StartedAt: 2025-11-03 15:13:29 -0500 (Mon, 03 Nov 2025) EndedAt: 2025-11-03 15:13:35 -0500 (Mon, 03 Nov 2025) EllapsedTime: 6.6 seconds RetCode: 0 Status: OK