Package: MethPed Version: 1.39.0 Command: /home/biocbuild/bbs-3.23-bioc/R/bin/R CMD build --keep-empty-dirs --no-resave-data MethPed StartedAt: 2025-11-02 18:29:49 -0500 (Sun, 02 Nov 2025) EndedAt: 2025-11-02 18:31:18 -0500 (Sun, 02 Nov 2025) EllapsedTime: 89.0 seconds RetCode: 0 Status: OK PackageFile: MethPed_1.39.0.tar.gz PackageFileSize: 9.292 MiB