Package: MethPed Version: 1.37.0 Command: /Library/Frameworks/R.framework/Resources/bin/R CMD INSTALL MethPed StartedAt: 2025-10-03 15:07:45 -0400 (Fri, 03 Oct 2025) EndedAt: 2025-10-03 15:07:49 -0400 (Fri, 03 Oct 2025) EllapsedTime: 4.4 seconds RetCode: 0 Status: OK