Package: MethPed Version: 1.37.0 Command: /Library/Frameworks/R.framework/Resources/bin/R CMD build --keep-empty-dirs --no-resave-data MethPed StartedAt: 2025-10-03 16:56:32 -0400 (Fri, 03 Oct 2025) EndedAt: 2025-10-03 16:57:18 -0400 (Fri, 03 Oct 2025) EllapsedTime: 45.5 seconds RetCode: 0 Status: OK PackageFile: MethPed_1.37.0.tar.gz PackageFileSize: 9.29 MiB