Package: MethPed Version: 1.37.0 Command: rm -rf MethPed.buildbin-libdir && mkdir MethPed.buildbin-libdir && /Users/biocbuild/BBS/utils/build-universal.sh MethPed_1.37.0.tar.gz /Library/Frameworks/R.framework/Resources/bin/R MethPed.buildbin-libdir StartedAt: 2025-10-03 22:45:27 -0400 (Fri, 03 Oct 2025) EndedAt: 2025-10-03 22:45:31 -0400 (Fri, 03 Oct 2025) EllapsedTime: 4.1 seconds RetCode: 0 Status: OK PackageFile: MethPed_1.37.0.tgz PackageFileSize: 9.315 MiB