Package: MetaboSignal Version: 1.39.0 Command: /home/biocbuild/bbs-3.22-bioc/R/bin/R CMD check --install=check:MetaboSignal.install-out.txt --library=/home/biocbuild/bbs-3.22-bioc/R/site-library --timings MetaboSignal_1.39.0.tar.gz StartedAt: 2025-10-17 02:41:27 -0400 (Fri, 17 Oct 2025) EndedAt: 2025-10-17 02:48:48 -0400 (Fri, 17 Oct 2025) EllapsedTime: 440.3 seconds RetCode: 0 Status: OK CheckDir: MetaboSignal.Rcheck Warnings: 0