Package: MetaboSignal Version: 1.41.0 Command: /home/biocbuild/bbs-3.23-bioc/R/bin/R CMD INSTALL MetaboSignal StartedAt: 2025-11-05 15:50:15 -0500 (Wed, 05 Nov 2025) EndedAt: 2025-11-05 15:51:07 -0500 (Wed, 05 Nov 2025) EllapsedTime: 52.3 seconds RetCode: 0 Status: OK