Package: MetaboSignal Version: 1.41.0 Command: /home/biocbuild/bbs-3.23-bioc/R/bin/R CMD build --keep-empty-dirs --no-resave-data MetaboSignal StartedAt: 2025-11-04 18:26:09 -0500 (Tue, 04 Nov 2025) EndedAt: 2025-11-04 18:28:02 -0500 (Tue, 04 Nov 2025) EllapsedTime: 113.1 seconds RetCode: 0 Status: OK PackageFile: MetaboSignal_1.41.0.tar.gz PackageFileSize: 2.089 MiB