Package: MetaboSignal Version: 1.39.0 Command: /Library/Frameworks/R.framework/Resources/bin/R CMD INSTALL MetaboSignal StartedAt: 2025-09-30 15:37:26 -0400 (Tue, 30 Sep 2025) EndedAt: 2025-09-30 15:38:41 -0400 (Tue, 30 Sep 2025) EllapsedTime: 75.2 seconds RetCode: 0 Status: OK