Package: MetaboSignal Version: 1.39.0 Command: /Library/Frameworks/R.framework/Resources/bin/R CMD build --keep-empty-dirs --no-resave-data MetaboSignal StartedAt: 2025-09-30 17:39:56 -0400 (Tue, 30 Sep 2025) EndedAt: 2025-09-30 17:42:00 -0400 (Tue, 30 Sep 2025) EllapsedTime: 123.3 seconds RetCode: 0 Status: OK PackageFile: MetaboSignal_1.39.0.tar.gz PackageFileSize: 2.089 MiB