Package: MetaboSignal Version: 1.39.0 Command: rm -rf MetaboSignal.buildbin-libdir && mkdir MetaboSignal.buildbin-libdir && /Users/biocbuild/BBS/utils/build-universal.sh MetaboSignal_1.39.0.tar.gz /Library/Frameworks/R.framework/Resources/bin/R MetaboSignal.buildbin-libdir StartedAt: 2025-10-01 01:51:09 -0400 (Wed, 01 Oct 2025) EndedAt: 2025-10-01 01:52:26 -0400 (Wed, 01 Oct 2025) EllapsedTime: 77.5 seconds RetCode: 0 Status: OK PackageFile: MetaboSignal_1.39.0.tgz PackageFileSize: 2.647 MiB