Package: MetaboDynamics Version: 1.1.10 Command: /home/biocbuild/R/R/bin/R CMD INSTALL MetaboDynamics StartedAt: 2025-10-09 21:19:01 -0000 (Thu, 09 Oct 2025) EndedAt: 2025-10-09 21:26:27 -0000 (Thu, 09 Oct 2025) EllapsedTime: 445.5 seconds RetCode: 0 Status: OK