Package: MetaboDynamics Version: 1.1.10 Command: /home/biocbuild/R/R/bin/R CMD build --keep-empty-dirs --no-resave-data MetaboDynamics StartedAt: 2025-10-10 01:54:05 -0000 (Fri, 10 Oct 2025) EndedAt: 2025-10-10 02:05:03 -0000 (Fri, 10 Oct 2025) EllapsedTime: 657.3 seconds RetCode: 0 Status: OK PackageFile: MetaboDynamics_1.1.10.tar.gz PackageFileSize: 4.212 MiB