Package: MetaboDynamics Version: 1.1.10 Command: /home/biocbuild/bbs-3.22-bioc/R/bin/R CMD check --install=check:MetaboDynamics.install-out.txt --library=/home/biocbuild/bbs-3.22-bioc/R/site-library --timings MetaboDynamics_1.1.10.tar.gz StartedAt: 2025-10-10 01:31:19 -0400 (Fri, 10 Oct 2025) EndedAt: 2025-10-10 01:40:20 -0400 (Fri, 10 Oct 2025) EllapsedTime: 540.6 seconds RetCode: 0 Status: OK CheckDir: MetaboDynamics.Rcheck Warnings: 0