Package: MetaboDynamics Version: 2.1.0 Command: /home/biocbuild/bbs-3.23-bioc/R/bin/R CMD INSTALL MetaboDynamics StartedAt: 2025-11-04 15:24:10 -0500 (Tue, 04 Nov 2025) EndedAt: 2025-11-04 15:29:23 -0500 (Tue, 04 Nov 2025) EllapsedTime: 313.8 seconds RetCode: 0 Status: OK