Package: MetaboDynamics Version: 2.1.0 Command: /home/biocbuild/bbs-3.23-bioc/R/bin/R CMD check --install=check:MetaboDynamics.install-out.txt --library=/home/biocbuild/bbs-3.23-bioc/R/site-library --timings MetaboDynamics_2.1.0.tar.gz StartedAt: 2025-11-15 01:11:28 -0500 (Sat, 15 Nov 2025) EndedAt: 2025-11-15 01:21:21 -0500 (Sat, 15 Nov 2025) EllapsedTime: 593.7 seconds RetCode: 0 Status: OK CheckDir: MetaboDynamics.Rcheck Warnings: 0