Package: MetaboDynamics Version: 2.1.0 Command: /home/biocbuild/bbs-3.23-bioc/R/bin/R CMD build --keep-empty-dirs --no-resave-data MetaboDynamics StartedAt: 2025-11-04 18:25:58 -0500 (Tue, 04 Nov 2025) EndedAt: 2025-11-04 18:33:39 -0500 (Tue, 04 Nov 2025) EllapsedTime: 461.4 seconds RetCode: 0 Status: OK PackageFile: MetaboDynamics_2.1.0.tar.gz PackageFileSize: 7.215 MiB