Package: MetaboCoreUtils Version: 1.17.1 Command: /home/biocbuild/R/R/bin/R CMD check --install=check:MetaboCoreUtils.install-out.txt --library=/home/biocbuild/R/R/site-library --no-vignettes --timings MetaboCoreUtils_1.17.1.tar.gz StartedAt: 2025-10-17 10:49:00 -0000 (Fri, 17 Oct 2025) EndedAt: 2025-10-17 10:50:06 -0000 (Fri, 17 Oct 2025) EllapsedTime: 66.1 seconds RetCode: 0 Status: OK CheckDir: MetaboCoreUtils.Rcheck Warnings: 0