Package: MetaboCoreUtils Version: 1.19.0 Command: /home/biocbuild/bbs-3.23-bioc/R/bin/R CMD INSTALL MetaboCoreUtils StartedAt: 2025-11-03 15:13:04 -0500 (Mon, 03 Nov 2025) EndedAt: 2025-11-03 15:13:09 -0500 (Mon, 03 Nov 2025) EllapsedTime: 4.8 seconds RetCode: 0 Status: OK