Package: MetaboCoreUtils Version: 1.17.1 Command: /Library/Frameworks/R.framework/Resources/bin/R CMD check --install=check:MetaboCoreUtils.install-out.txt --library=/Library/Frameworks/R.framework/Resources/library --no-vignettes --timings MetaboCoreUtils_1.17.1.tar.gz StartedAt: 2025-10-13 23:16:56 -0400 (Mon, 13 Oct 2025) EndedAt: 2025-10-13 23:18:12 -0400 (Mon, 13 Oct 2025) EllapsedTime: 75.7 seconds RetCode: 0 Status: OK CheckDir: MetaboCoreUtils.Rcheck Warnings: 0